BEGIN:VCALENDAR
VERSION:2.0
PRODID:-//wp-events-plugin.com//5.99912//EN
TZID:Europe/Berlin
X-WR-TIMEZONE:Europe/Berlin
BEGIN:VEVENT
UID:0-1004@gemmrigheim.albverein.eu
DTSTART;TZID=Europe/Berlin:20261120T190000
DTEND;TZID=Europe/Berlin:20261120T190000
DTSTAMP:20251224T140314Z
URL:https://gemmrigheim.albverein.eu/events/43-jahreshauptversammlung/
SUMMARY:43. Jahreshauptversammlung
DESCRIPTION:Evangelisches Gemeindehaus\nnähere Infos folgen\n\nBeginn: 19.
 00 Uhr
LOCATION:Evangelisches Gemeindehaus Gemmrigheim\, Hofgasse 8\, Gemmrigheim\
 , Baden-Württemberg\, 74376\, Kreis Ludwigsburg\, Deutschland
GEO:49.0249;9.156129999999962
X-APPLE-STRUCTURED-LOCATION;VALUE=URI;X-ADDRESS=Hofgasse 8\, Gemmrigheim\, 
 Baden-Württemberg\, 74376\, Kreis Ludwigsburg\, Deutschland;X-APPLE-RADIU
 S=100;X-TITLE=Evangelisches Gemeindehaus Gemmrigheim:geo:49.0249,9.1561299
 99999962
END:VEVENT
BEGIN:VTIMEZONE
TZID:Europe/Berlin
X-LIC-LOCATION:Europe/Berlin
BEGIN:STANDARD
DTSTART:20261025T020000
TZOFFSETFROM:+0200
TZOFFSETTO:+0100
TZNAME:CET
END:STANDARD
END:VTIMEZONE
END:VCALENDAR