BEGIN:VCALENDAR
VERSION:2.0
PRODID:-//wp-events-plugin.com//5.99912//EN
TZID:Europe/Berlin
X-WR-TIMEZONE:Europe/Berlin
BEGIN:VEVENT
UID:0-986@gemmrigheim.albverein.eu
DTSTART;TZID=Europe/Berlin:20261010T100000
DTEND;TZID=Europe/Berlin:20261010T140000
DTSTAMP:20251222T133835Z
URL:https://gemmrigheim.albverein.eu/events/backhaus-12/
SUMMARY:Backhaus
DESCRIPTION:Nähere Infos folgen\n\nAnmeldung:\nSabine Thiele\nTel.: 07143 
 / 92 220\nEmail: backhaus@albverein-gemmrigheim.de
END:VEVENT
BEGIN:VTIMEZONE
TZID:Europe/Berlin
X-LIC-LOCATION:Europe/Berlin
BEGIN:DAYLIGHT
DTSTART:20260329T030000
TZOFFSETFROM:+0100
TZOFFSETTO:+0200
TZNAME:CEST
END:DAYLIGHT
END:VTIMEZONE
END:VCALENDAR