BEGIN:VCALENDAR
VERSION:2.0
PRODID:-//wp-events-plugin.com//5.99912//EN
TZID:Europe/Berlin
X-WR-TIMEZONE:Europe/Berlin
BEGIN:VEVENT
UID:0-987@gemmrigheim.albverein.eu
DTSTART;TZID=Europe/Berlin:20261128T100000
DTEND;TZID=Europe/Berlin:20261128T140000
DTSTAMP:20251222T134148Z
URL:https://gemmrigheim.albverein.eu/events/backhaus-13/
SUMMARY:Backhaus
DESCRIPTION:Nähere Infos folgen\n\nAnmeldung:\nSabine Thiele\nTel.: 07143 
 / 92 220\nEmail: backhaus@albverein-gemmrigheim.de
END:VEVENT
BEGIN:VTIMEZONE
TZID:Europe/Berlin
X-LIC-LOCATION:Europe/Berlin
BEGIN:STANDARD
DTSTART:20261025T020000
TZOFFSETFROM:+0200
TZOFFSETTO:+0100
TZNAME:CET
END:STANDARD
END:VTIMEZONE
END:VCALENDAR