BEGIN:VCALENDAR
VERSION:2.0
PRODID:-//wp-events-plugin.com//5.99912//EN
TZID:Europe/Berlin
X-WR-TIMEZONE:Europe/Berlin
BEGIN:VEVENT
UID:0-949@gemmrigheim.albverein.eu
DTSTART;TZID=Europe/Berlin:20260731T000000
DTEND;TZID=Europe/Berlin:20260802T000000
DTSTAMP:20251224T135449Z
URL:https://gemmrigheim.albverein.eu/events/bregenz-festspiele-auf-dem-see
 -2026/
SUMMARY:Bregenz - Festspiele auf der Seebühne 2026
DESCRIPTION:\nDie Veranstaltung ist momentan ausgebucht. Anmeldungen auf di
 e Warteliste nehmen wir gerne entgegen!\nDie Ortsgruppe Gemmrigheim fährt
  zu den Bregenzer Festspielen 2026\nNach dem großen Zuspruch in den verga
 ngenen Jahren\, bieten die Gemmrigheimer vom 31. Juli bis zum 2. August 20
 26 erneut die Möglichkeit\, die Spiele auf dem See zu besuchen. Auf der S
 eebühne wird im Jahr 2026 La traviata von Giuseppe Verdi aufgeführt.\nDi
 e Reise beginnt am Freitag\, den 31. Juli vormittags in Richtung Bodensee.
  Angeboten wird wie in den vergangenen Jahren ein Programm für das gesamt
 e Wochenende mit Stadtführung\, Bühnenführung und Wanderungen bzw. Spaz
 iergängen am See und im Voralpenland.\nAm Abend des 2. August geht es dan
 n mit dem Bus wieder nach Hause zurück.\nDa die Karten für die Festspiel
 e schon reserviert sind\, müssen die Festbuchungen und Anzahlungen sehr k
 urzfristig nach der Hauptversammlung erfolgen.\nKostenaufstellung:\nMitgli
 eder im DZ: 420\,- €\nZuschlag Karte: 117\,- bzw. 149\,- €\nZuschlag E
 Z: 150\,- €\nZuschlag Nichtmitglieder: 60\,- €\n\nBitte beachten: Die 
 angegebenen Preise sind vorläufig. Wir können heute leider nicht wirklic
 h sagen\, ob und falls ja\, welche Änderungen in 2026 anstehen. Wir bitte
 n um euer Verständnis dafür\, wobei wir sicherlich versuchen werden\, ni
 chts zu ändern. Wir wollen mit diesen Reisen keinen Gewinn machen\, aber 
 dem Verein dürfen auch keine Verluste entstehen.\n\nLeistungen:\nBusfahrt
 en\n2 x Übernachtung inklusive Frühstück plus 1 x Buffet am Abend in Br
 egenz\nFestspiel-Karten (zu jeweils 117\,- oder 149\,- €)\nTickets für 
 die Führungen und Wanderungen\nBrotzeitpakete am Samstag und Sonntag\, Tr
 inkgelder\n\nStand: 14. November 2026 (Änderungen vorgehalten)\n\nAnsprec
 hpartner:\nRenate und Joachim Kreikemeier\nTel.: 07143/963945\nEmail: jr.k
 reikemeier@albverein-gemmrigheim.de
END:VEVENT
BEGIN:VTIMEZONE
TZID:Europe/Berlin
X-LIC-LOCATION:Europe/Berlin
BEGIN:DAYLIGHT
DTSTART:20260329T030000
TZOFFSETFROM:+0100
TZOFFSETTO:+0200
TZNAME:CEST
END:DAYLIGHT
END:VTIMEZONE
END:VCALENDAR