BEGIN:VCALENDAR
VERSION:2.0
PRODID:-//wp-events-plugin.com//5.99912//EN
TZID:Europe/Berlin
X-WR-TIMEZONE:Europe/Berlin
BEGIN:VEVENT
UID:0-976@gemmrigheim.albverein.eu
DTSTART;TZID=Europe/Berlin:20261018T130000
DTEND;TZID=Europe/Berlin:20261018T170000
DTSTAMP:20251222T131108Z
URL:https://gemmrigheim.albverein.eu/events/familienaktion-ab-durch-die-na
 tur/
SUMMARY:Familienaktion - ab durch die Natur
DESCRIPTION:Nähere Infos folgen - Lober\n\nAnmeldung:\nüber diesen Link 
 \nAnmeldeformular\noder\nfamiliengruppe@albverein-gemmrigheim.de
END:VEVENT
BEGIN:VTIMEZONE
TZID:Europe/Berlin
X-LIC-LOCATION:Europe/Berlin
BEGIN:DAYLIGHT
DTSTART:20260329T030000
TZOFFSETFROM:+0100
TZOFFSETTO:+0200
TZNAME:CEST
END:DAYLIGHT
END:VTIMEZONE
END:VCALENDAR