BEGIN:VCALENDAR
VERSION:2.0
PRODID:-//wp-events-plugin.com//5.99912//EN
TZID:Europe/Berlin
X-WR-TIMEZONE:Europe/Berlin
BEGIN:VEVENT
UID:0-993@gemmrigheim.albverein.eu
DTSTART;TZID=Europe/Berlin:20261115T100000
DTEND;TZID=Europe/Berlin:20261115T170000
DTSTAMP:20251224T133643Z
URL:https://gemmrigheim.albverein.eu/events/familienaktion-ladys-hike-wand
 erung-fuer-frauen-2/
SUMMARY:Familienaktion - Lady's Hike - Wanderung für Frauen
DESCRIPTION:Nähere Infos folgen - Tina Pleschke\, Karina Frank\, Simone Li
 ppik\n\nOrganisation:\nDRK Gemmrigheim / Julia Schober\nüber diesen Link
  \nAnmeldeformular\noder\nfamiliengruppe@albverein-gemmrigheim.de
END:VEVENT
BEGIN:VTIMEZONE
TZID:Europe/Berlin
X-LIC-LOCATION:Europe/Berlin
BEGIN:STANDARD
DTSTART:20261025T020000
TZOFFSETFROM:+0200
TZOFFSETTO:+0100
TZNAME:CET
END:STANDARD
END:VTIMEZONE
END:VCALENDAR