BEGIN:VCALENDAR
VERSION:2.0
PRODID:-//wp-events-plugin.com//5.99912//EN
TZID:Europe/Berlin
X-WR-TIMEZONE:Europe/Berlin
BEGIN:VEVENT
UID:0-989@gemmrigheim.albverein.eu
DTSTART;TZID=Europe/Berlin:20260517T093000
DTEND;TZID=Europe/Berlin:20260517T180000
DTSTAMP:20260325T134831Z
URL:https://gemmrigheim.albverein.eu/events/familienaktion-ladys-hike-wand
 erung-fuer-frauen/
SUMMARY:Familienaktion - Lady's Hike - Wanderung für Frauen
DESCRIPTION:\n\n&nbsp\;\n\n&nbsp\;\n\n&nbsp\;\n\n&nbsp\;\n\n&nbsp\;\n\n&nbs
 p\;\n\n&nbsp\;\n\n&nbsp\;\n\n&nbsp\;\n\n&nbsp\;\n\n&nbsp\;\n\n&nbsp\;\n\n&
 nbsp\;\n\nSchwäbischer Albverein Gemmrigheim – Wanderung für Frauen\n\
 nDie Ortsgruppe Gemmrigheim des Schwäbischen Albvereins lädt am 17. Mai 
 2026 alle wanderbegeisterten Frauen zu einer besonderen Tour ein. Die rund
  15 Kilometer lange Wanderung führt zum beeindruckenden Kloster Maulbronn
 \, einem UNESCO-Weltkulturerbe.\n\nNach der gemeinsamen Wanderung erwartet
  die Teilnehmerinnen eine geführte Besichtigung des Klosters. Im Anschlus
 s ist ein gemeinsames Abendessen geplant\, bevor die Rückfahrt erfolgt. F
 ür die Mittagspause unterwegs wird um das Mitbringen einer kleinen Vesper
  gebeten.\n\nTreffpunkt: 09:30 Uhr am Bahnhof Kirchheim\n\nLeitung: Regine
  Jung\n\nAnmeldung: Bis zum 7. Mai 2026\nunter anmeldung.albverein-gemmri
 gheim.de\n\nWeitere Informationen: familiengruppe@albverein-gemmrigheim.d
 e\n\nDie Ortsgruppe freut sich auf zahlreiche Teilnehmerinnen und einen er
 lebnisreichen Tag in der Natur. Nichtmitglieder sind herzlich willkommen.
END:VEVENT
BEGIN:VTIMEZONE
TZID:Europe/Berlin
X-LIC-LOCATION:Europe/Berlin
BEGIN:DAYLIGHT
DTSTART:20260329T030000
TZOFFSETFROM:+0100
TZOFFSETTO:+0200
TZNAME:CEST
END:DAYLIGHT
END:VTIMEZONE
END:VCALENDAR