BEGIN:VCALENDAR
VERSION:2.0
PRODID:-//wp-events-plugin.com//5.99912//EN
TZID:Europe/Berlin
X-WR-TIMEZONE:Europe/Berlin
BEGIN:VEVENT
UID:0-977@gemmrigheim.albverein.eu
DTSTART;TZID=Europe/Berlin:20261121T130000
DTEND;TZID=Europe/Berlin:20261121T170000
DTSTAMP:20251222T131202Z
URL:https://gemmrigheim.albverein.eu/events/familienaktion-nistkaesten-put
 zen/
SUMMARY:Familienaktion - Nistkästen putzen
DESCRIPTION:Nähere Infos folgen - Ole Petters\n\nAnmeldung:\nüber diesen 
 Link \nAnmeldeformular\noder\nfamiliengruppe@albverein-gemmrigheim.de
END:VEVENT
BEGIN:VTIMEZONE
TZID:Europe/Berlin
X-LIC-LOCATION:Europe/Berlin
BEGIN:STANDARD
DTSTART:20261025T020000
TZOFFSETFROM:+0200
TZOFFSETTO:+0100
TZNAME:CET
END:STANDARD
END:VTIMEZONE
END:VCALENDAR