BEGIN:VCALENDAR
VERSION:2.0
PRODID:-//wp-events-plugin.com//5.99912//EN
TZID:Europe/Berlin
X-WR-TIMEZONE:Europe/Berlin
BEGIN:VEVENT
UID:0-971@gemmrigheim.albverein.eu
DTSTART;TZID=Europe/Berlin:20260423T150000
DTEND;TZID=Europe/Berlin:20260423T170000
DTSTAMP:20260412T120211Z
URL:https://gemmrigheim.albverein.eu/events/familienaktion-tag-des-baumes/
SUMMARY:Familienaktion - Tag des Baumes
DESCRIPTION:\n\nGemeinsam pflanzen wir eine Zitterpappel\n\nDie Ortsgruppe 
 Gemmrigheim des Schwäbischen Albvereins lädt\nam 23. April 2026 um 15 Uh
 r herzlich zum diesjährigen Tag des Baumes ein. Unter dem Motto „Wir pf
 lanzen eine Zitterpappel“ setzt die Ortsgruppe gemeinsam mit der Gemeind
 e ein Zeichen für Naturverbundenheit\, Nachhaltigkeit und gelebte Gemeins
 chaft.\n\nDer Treffpunkt befindet sich am Ende der Blondergasse unten am N
 eckar. Von dort aus startet die gemeinsame Pflanzaktion\, zu der Menschen 
 aller Generationen eingeladen sind – ob Familien\, Kinder\, Jugendliche 
 oder Seniorinnen und Senioren.\n\nFür ein lebendiges Rahmenprogramm sorge
 n die Kindertanzgruppe\, der Sing- und Musizierkreis sowie der Bauhof Gemm
 righeim\, die den Nachmittag musikalisch und organisatorisch begleiten. Ei
 n süßer Snack steht für alle Teilnehmenden bereit\; Getränke werden se
 lbst mitgebracht.\n\nAlle Bürgerinnen und Bürger sind herzlich eingelade
 n\, an dieser Aktion teilzunehmen.\n\nInformationen:\nfamiliengruppe@albve
 rein-gemmrigheim.de
END:VEVENT
BEGIN:VTIMEZONE
TZID:Europe/Berlin
X-LIC-LOCATION:Europe/Berlin
BEGIN:DAYLIGHT
DTSTART:20260329T030000
TZOFFSETFROM:+0100
TZOFFSETTO:+0200
TZNAME:CEST
END:DAYLIGHT
END:VTIMEZONE
END:VCALENDAR