BEGIN:VCALENDAR
VERSION:2.0
PRODID:-//wp-events-plugin.com//5.99912//EN
TZID:Europe/Berlin
X-WR-TIMEZONE:Europe/Berlin
BEGIN:VEVENT
UID:0-973@gemmrigheim.albverein.eu
DTSTART;TZID=Europe/Berlin:20260614T090000
DTEND;TZID=Europe/Berlin:20260614T160000
DTSTAMP:20251222T130639Z
URL:https://gemmrigheim.albverein.eu/events/familienaktion-tagesausflug-mi
 t-dem-bus/
SUMMARY:Familienaktion - Tagesausflug mit dem Bus
DESCRIPTION:Nähere Infos folgen - Familie Rathfelder\n\nAnmeldung:\nüber 
 diesen Link \nAnmeldeformular\noder\nfamiliengruppe@albverein-gemmrigheim
 .de
END:VEVENT
BEGIN:VTIMEZONE
TZID:Europe/Berlin
X-LIC-LOCATION:Europe/Berlin
BEGIN:DAYLIGHT
DTSTART:20260329T030000
TZOFFSETFROM:+0100
TZOFFSETTO:+0200
TZNAME:CEST
END:DAYLIGHT
END:VTIMEZONE
END:VCALENDAR