BEGIN:VCALENDAR
VERSION:2.0
PRODID:-//wp-events-plugin.com//5.99912//EN
TZID:Europe/Berlin
X-WR-TIMEZONE:Europe/Berlin
BEGIN:VEVENT
UID:0-981@gemmrigheim.albverein.eu
DTSTART;TZID=Europe/Berlin:20261213T150000
DTEND;TZID=Europe/Berlin:20261213T180000
DTSTAMP:20251224T141105Z
URL:https://gemmrigheim.albverein.eu/events/familienaktion-waldweihnacht-m
 it-familienwanderung/
SUMMARY:Familienaktion - Waldweihnacht mit Familienwanderung
DESCRIPTION:Jagdhütte Buchholzwald\nnähere Infos folgen\n\nAnmeldung:\nü
 ber diesen Link \nAnmeldeformular\noder\nfamiliengruppe@albverein-gemmrig
 heim.de
END:VEVENT
BEGIN:VTIMEZONE
TZID:Europe/Berlin
X-LIC-LOCATION:Europe/Berlin
BEGIN:STANDARD
DTSTART:20261025T020000
TZOFFSETFROM:+0200
TZOFFSETTO:+0100
TZNAME:CET
END:STANDARD
END:VTIMEZONE
END:VCALENDAR