BEGIN:VCALENDAR
VERSION:2.0
PRODID:-//wp-events-plugin.com//5.99912//EN
TZID:Europe/Berlin
X-WR-TIMEZONE:Europe/Berlin
BEGIN:VEVENT
UID:0-965@gemmrigheim.albverein.eu
DTSTART;TZID=Europe/Berlin:20261008T133000
DTEND;TZID=Europe/Berlin:20261008T170000
DTSTAMP:20251220T163701Z
URL:https://gemmrigheim.albverein.eu/events/freizeitwanderung-im-stromberg
 /
SUMMARY:Freizeitwanderung - Im Stromberg
DESCRIPTION:Nähere Infos folgen\n\nWanderführer:\nKurt Ott\nTel: 0151 / 1
 5 34 12 25 und\nErika Klier\nTel: 0151 / 19 32 05 32\nEmail: e.klier@albv
 erein-gemmrigheim.de
END:VEVENT
BEGIN:VTIMEZONE
TZID:Europe/Berlin
X-LIC-LOCATION:Europe/Berlin
BEGIN:DAYLIGHT
DTSTART:20260329T030000
TZOFFSETFROM:+0100
TZOFFSETTO:+0200
TZNAME:CEST
END:DAYLIGHT
END:VTIMEZONE
END:VCALENDAR