BEGIN:VCALENDAR
VERSION:2.0
PRODID:-//wp-events-plugin.com//5.99912//EN
TZID:Europe/Berlin
X-WR-TIMEZONE:Europe/Berlin
BEGIN:VEVENT
UID:0-964@gemmrigheim.albverein.eu
DTSTART;TZID=Europe/Berlin:20260917T133000
DTEND;TZID=Europe/Berlin:20260917T170000
DTSTAMP:20251220T163434Z
URL:https://gemmrigheim.albverein.eu/events/freizeitwanderung-loechgau/
SUMMARY:Freizeitwanderung - Löchgau
DESCRIPTION:Nähere Infos folgen\n\nWanderführer:\nRenate und Herrmann Mü
 ller\nTel: 0151 56 35 37 56 oder 0151 / 56 99 66 12
END:VEVENT
BEGIN:VTIMEZONE
TZID:Europe/Berlin
X-LIC-LOCATION:Europe/Berlin
BEGIN:DAYLIGHT
DTSTART:20260329T030000
TZOFFSETFROM:+0100
TZOFFSETTO:+0200
TZNAME:CEST
END:DAYLIGHT
END:VTIMEZONE
END:VCALENDAR