BEGIN:VCALENDAR
VERSION:2.0
PRODID:-//wp-events-plugin.com//5.99912//EN
TZID:Europe/Berlin
X-WR-TIMEZONE:Europe/Berlin
BEGIN:VEVENT
UID:0-967@gemmrigheim.albverein.eu
DTSTART;TZID=Europe/Berlin:20261217T133000
DTEND;TZID=Europe/Berlin:20261217T170000
DTSTAMP:20251220T164007Z
URL:https://gemmrigheim.albverein.eu/events/freizeitwanderung-vom-fisch-zu
 m-reh/
SUMMARY:Freizeitwanderung - Vom Fisch zum Reh
DESCRIPTION:Nähere Infos folgen\n\nWanderführer:\nUrsula und Wolfgang Wag
 ner\nTel: 07141 / 86 20 87
END:VEVENT
BEGIN:VTIMEZONE
TZID:Europe/Berlin
X-LIC-LOCATION:Europe/Berlin
BEGIN:STANDARD
DTSTART:20261025T020000
TZOFFSETFROM:+0200
TZOFFSETTO:+0100
TZNAME:CET
END:STANDARD
END:VTIMEZONE
END:VCALENDAR