BEGIN:VCALENDAR
VERSION:2.0
PRODID:-//wp-events-plugin.com//5.99912//EN
TZID:Europe/Berlin
X-WR-TIMEZONE:Europe/Berlin
BEGIN:VEVENT
UID:0-960@gemmrigheim.albverein.eu
DTSTART;TZID=Europe/Berlin:20260521T133000
DTEND;TZID=Europe/Berlin:20260521T170000
DTSTAMP:20251220T161838Z
URL:https://gemmrigheim.albverein.eu/events/freizeitwanderung-wunnenstein-
 2/
SUMMARY:Freizeitwanderung - Wunnenstein
DESCRIPTION:Nähere Infos folgen\n\nWanderführer:\nKarlheinz Adelhelm\nTel
 : 0152 / 54 31 33 50
END:VEVENT
BEGIN:VTIMEZONE
TZID:Europe/Berlin
X-LIC-LOCATION:Europe/Berlin
BEGIN:DAYLIGHT
DTSTART:20260329T030000
TZOFFSETFROM:+0100
TZOFFSETTO:+0200
TZNAME:CEST
END:DAYLIGHT
END:VTIMEZONE
END:VCALENDAR