BEGIN:VCALENDAR
VERSION:2.0
PRODID:-//wp-events-plugin.com//5.99912//EN
TZID:Europe/Berlin
X-WR-TIMEZONE:Europe/Berlin
BEGIN:VEVENT
UID:0-966@gemmrigheim.albverein.eu
DTSTART;TZID=Europe/Berlin:20261119T133000
DTEND;TZID=Europe/Berlin:20261119T170000
DTSTAMP:20251220T163853Z
URL:https://gemmrigheim.albverein.eu/events/freizeitwanderung-zabergaeu/
SUMMARY:Freizeitwanderung - Zabergäu
DESCRIPTION:Nähere Infos folgen\n\nWanderführer:\nRose und Ulrich Schweik
 er\nTel: 07143 / 9 33 51
END:VEVENT
BEGIN:VTIMEZONE
TZID:Europe/Berlin
X-LIC-LOCATION:Europe/Berlin
BEGIN:STANDARD
DTSTART:20261025T020000
TZOFFSETFROM:+0200
TZOFFSETTO:+0100
TZNAME:CET
END:STANDARD
END:VTIMEZONE
END:VCALENDAR