BEGIN:VCALENDAR
VERSION:2.0
PRODID:-//wp-events-plugin.com//5.99912//EN
TZID:Europe/Berlin
X-WR-TIMEZONE:Europe/Berlin
BEGIN:VEVENT
UID:0-994@gemmrigheim.albverein.eu
DTSTART;TZID=Europe/Berlin:20260603T170000
DTEND;TZID=Europe/Berlin:20260603T170000
DTSTAMP:20251224T140650Z
URL:https://gemmrigheim.albverein.eu/events/grill-chill-auf-dem-schulhof/
SUMMARY:Grill &amp\; Chill auf dem Schulhof
DESCRIPTION:Weinlaube am Vortag des Albvereinsfestes\nnähere Infos folgen
LOCATION:Gemmrigheim\, Schulhof\, Bergstr. 28\, Gemmrigheim\, 74376\, Deuts
 chland
GEO:49.02795340000001;9.1592111
X-APPLE-STRUCTURED-LOCATION;VALUE=URI;X-ADDRESS=Bergstr. 28\, Gemmrigheim\,
  74376\, Deutschland;X-APPLE-RADIUS=100;X-TITLE=Gemmrigheim\, Schulhof:geo
 :49.02795340000001,9.1592111
END:VEVENT
BEGIN:VTIMEZONE
TZID:Europe/Berlin
X-LIC-LOCATION:Europe/Berlin
BEGIN:DAYLIGHT
DTSTART:20260329T030000
TZOFFSETFROM:+0100
TZOFFSETTO:+0200
TZNAME:CEST
END:DAYLIGHT
END:VTIMEZONE
END:VCALENDAR