BEGIN:VCALENDAR
VERSION:2.0
PRODID:-//wp-events-plugin.com//5.99912//EN
TZID:Europe/Berlin
X-WR-TIMEZONE:Europe/Berlin
BEGIN:VEVENT
UID:0-1000@gemmrigheim.albverein.eu
DTSTART;TZID=Europe/Berlin:20261018T140000
DTEND;TZID=Europe/Berlin:20261018T173000
DTSTAMP:20251224T135143Z
URL:https://gemmrigheim.albverein.eu/events/halbtageswanderung-buergermeis
 terwanderung/
SUMMARY:Halbtageswanderung - Bürgermeisterwanderung
DESCRIPTION:Nähere Infos folgen\n\nOrganisation:\nN.N.
END:VEVENT
BEGIN:VTIMEZONE
TZID:Europe/Berlin
X-LIC-LOCATION:Europe/Berlin
BEGIN:DAYLIGHT
DTSTART:20260329T030000
TZOFFSETFROM:+0100
TZOFFSETTO:+0200
TZNAME:CEST
END:DAYLIGHT
END:VTIMEZONE
END:VCALENDAR