BEGIN:VCALENDAR
VERSION:2.0
PRODID:-//wp-events-plugin.com//5.99912//EN
TZID:Europe/Berlin
X-WR-TIMEZONE:Europe/Berlin
BEGIN:VEVENT
UID:0-980@gemmrigheim.albverein.eu
DTSTART;TZID=Europe/Berlin:20261212T150000
DTEND;TZID=Europe/Berlin:20261212T180000
DTSTAMP:20251224T140934Z
URL:https://gemmrigheim.albverein.eu/events/kulturveranstaltung-advents-un
 d-weihnachtsliedersingen/
SUMMARY:Kulturveranstaltung - Advents- und Weihnachtsliedersingen
DESCRIPTION:mit dem Sing- und Musizierkreis in der Johanneskirche\nNähere 
 Infos folgen\n\nOrganisation:\nRenate Kreikemeier\nTel.: 07143 / 96 39 45
LOCATION:Johanneskirche Gemmrigheim\, Häfnerstr. 25\, Gemmrigheim\, Deutsc
 hland
GEO:49.0222253;9.1596853
X-APPLE-STRUCTURED-LOCATION;VALUE=URI;X-ADDRESS=Häfnerstr. 25\, Gemmrighei
 m\, Deutschland;X-APPLE-RADIUS=100;X-TITLE=Johanneskirche Gemmrigheim:geo:
 49.0222253,9.1596853
END:VEVENT
BEGIN:VTIMEZONE
TZID:Europe/Berlin
X-LIC-LOCATION:Europe/Berlin
BEGIN:STANDARD
DTSTART:20261025T020000
TZOFFSETFROM:+0200
TZOFFSETTO:+0100
TZNAME:CET
END:STANDARD
END:VTIMEZONE
END:VCALENDAR