BEGIN:VCALENDAR
VERSION:2.0
PRODID:-//wp-events-plugin.com//5.99912//EN
TZID:Europe/Berlin
X-WR-TIMEZONE:Europe/Berlin
BEGIN:VEVENT
UID:0-983@gemmrigheim.albverein.eu
DTSTART;TZID=Europe/Berlin:20261106T100000
DTEND;TZID=Europe/Berlin:20261107T140000
DTSTAMP:20251222T133253Z
URL:https://gemmrigheim.albverein.eu/events/naturpflegeaktion-12/
SUMMARY:Naturpflegeaktion
DESCRIPTION:Trockenrasenpflege\nnähere Infos folgen:\n\nOrganisation:\nUte
  und Günter Wien\nTel.: 07133 / 15 459\nEmail: ug.wien@albverein-gemmrig
 heim.de
END:VEVENT
BEGIN:VTIMEZONE
TZID:Europe/Berlin
X-LIC-LOCATION:Europe/Berlin
BEGIN:STANDARD
DTSTART:20261025T020000
TZOFFSETFROM:+0200
TZOFFSETTO:+0100
TZNAME:CET
END:STANDARD
END:VTIMEZONE
END:VCALENDAR