BEGIN:VCALENDAR
VERSION:2.0
PRODID:-//wp-events-plugin.com//5.99912//EN
TZID:Europe/Berlin
X-WR-TIMEZONE:Europe/Berlin
BEGIN:VEVENT
UID:0-1015@gemmrigheim.albverein.eu
DTSTART;TZID=Europe/Berlin:20260505T140000
DTEND;TZID=Europe/Berlin:20260505T200000
DTSTAMP:20260416T115826Z
URL:https://gemmrigheim.albverein.eu/events/seniorentreff-besucht-im-mai-d
 as-hoelderlin-museum/
SUMMARY:Seniorentreff besucht im Mai das Hölderlin-Museum
DESCRIPTION:Der Seniorentreff des Schwäbischen Albvereins Gemmrigheim will
  die Kultur pflegen und besucht das Hölderlin-Museum in Lauffen\, Nordhei
 mer Str. 5. Der schwäbische Dichter ist dort geboren und aufgewachsen. Da
 s Haus der Familie wurde vor einigen Jahren aufwendig renoviert. In 4 Räu
 men werden verschiedene Facetten Hölderlins gezeigt. Mit wenigen Schritte
 n außerhalb können das Hölderlin-Denkmal und das Hölderlin-Kunstwerk i
 m Kreisel besichtigt werden.\n\nFür Führung und Eintritt sind vor Ort 8 
 € zu entrichten.\n\nDie Anfahrt wird in Fahrgemeinschaften mit privaten 
 Pkw's organisiert. Daher bitten wir bei der Anmeldung um Mitteilung von\n-
   Personenzahl Teilnahme\n-  Direktfahrer\n-  Mitfahrgelegenheit gewün
 scht\n-  Mitfahrgelegenheit für ? wieviele Personen wird angeboten.\n\nT
 reffpunkt am Dienstag\, 5. Mai 2026 ist der Parkplatz an der Wörthhalle i
 n Richtung Besigheim. Abfahrt um 14 Uhr. Direktfahrer beachten\, dass um 1
 4:30 Uhr der Rundgang zu Denkmal und Kunstwerk (ca. 30 Min.) beginnt\, ans
 chließend die Führung im Hölderlinhaus. Bei Teilnahme von mind. 20 Pers
 onen öffnet das im Haus befindliche Museums-Café. Sonst wird nach einer 
 anderen Möglichkeit für das anschließende Beisammensein gesucht.\nZur O
 rganisation bitte eine Anmeldung bis spätestens 28.04.26 an\n\nAnne Rose 
 Herrmann: ar.herrmann@albverein-gemmrigheim.de\nHandy: 0151-26204339\nRena
 te Kreikemeier: rk.kreikemeier@albverein-gemmrigheim.de\nTelefon 07143/963
 945
END:VEVENT
BEGIN:VTIMEZONE
TZID:Europe/Berlin
X-LIC-LOCATION:Europe/Berlin
BEGIN:DAYLIGHT
DTSTART:20260329T030000
TZOFFSETFROM:+0100
TZOFFSETTO:+0200
TZNAME:CEST
END:DAYLIGHT
END:VTIMEZONE
END:VCALENDAR