BEGIN:VCALENDAR
VERSION:2.0
PRODID:-//wp-events-plugin.com//5.99912//EN
TZID:Europe/Berlin
X-WR-TIMEZONE:Europe/Berlin
BEGIN:VEVENT
UID:0-997@gemmrigheim.albverein.eu
DTSTART;TZID=Europe/Berlin:20260726T080000
DTEND;TZID=Europe/Berlin:20260726T180000
DTSTAMP:20251224T134510Z
URL:https://gemmrigheim.albverein.eu/events/tageswanderung-auf-der-schwaeb
 ischen-alb-2/
SUMMARY:Tageswanderung - Auf der Schwäbischen Alb
DESCRIPTION:Nähere Infos folgen\n\nAnmeldung:\nHeiko Herbst\nTel.: 07143 /
  93 962\nEmail: h.herbst@albverein-gemmrigheim.de
END:VEVENT
BEGIN:VTIMEZONE
TZID:Europe/Berlin
X-LIC-LOCATION:Europe/Berlin
BEGIN:DAYLIGHT
DTSTART:20260329T030000
TZOFFSETFROM:+0100
TZOFFSETTO:+0200
TZNAME:CEST
END:DAYLIGHT
END:VTIMEZONE
END:VCALENDAR