BEGIN:VCALENDAR
VERSION:2.0
PRODID:-//wp-events-plugin.com//5.99912//EN
TZID:Europe/Berlin
X-WR-TIMEZONE:Europe/Berlin
BEGIN:VEVENT
UID:0-988@gemmrigheim.albverein.eu
DTSTART;TZID=Europe/Berlin:20260503T064500
DTEND;TZID=Europe/Berlin:20260503T200000
DTSTAMP:20260331T180614Z
URL:https://gemmrigheim.albverein.eu/events/tageswanderung-in-stuttgart-2/
SUMMARY:Tageswanderung - Auf dem Jakobsweg
DESCRIPTION:Pilgerwanderung auf dem Jakobsweg: Es sind noch Plätze frei\n\
 nDie beliebte Wanderung auf dem Jakobsweg der Ortsgruppe Gemmrigheim des S
 chwäbischen Albvereins wird am 3.Mai 2026 fortgesetzt. Es sind noch Plät
 ze frei. Die Pilgerstrecke verläuft dieses Jahr von Wolfach nach Haslach.
  Die Anfahrt nach Wolfach erfolgt mit dem Bus. Startpunkt ist der ALDI Par
 kplatz in Gemmrigheim. Die Abfahrtzeit ist 6:45 Uhr. Der Bus bringt die Pi
 lger wieder zurück nach Gemmrigheim\, wo im Restaurant am Wasen die Schlu
 sseinkehr geplant ist. Der Unkostenbeitrag von 40\,-€ für Mitglieder un
 d 45\,-€ für Nichtmitglieder wird im Bus kassiert.\n\nAnmeldung bei Elk
 e und Jürgen Golkowsky\nTel: +49 7143-34371\nMobil:+49 15161458905\nEmail
 : e_j.golkowsky@t-online.de.\n\nBitte angeben\, ob eine Teilnahme an der S
 chlusseinkehr gewünscht wird. Weitere Info unter: www.albverein-gemmrighe
 im.de.\n\n
END:VEVENT
BEGIN:VTIMEZONE
TZID:Europe/Berlin
X-LIC-LOCATION:Europe/Berlin
BEGIN:DAYLIGHT
DTSTART:20260329T030000
TZOFFSETFROM:+0100
TZOFFSETTO:+0200
TZNAME:CEST
END:DAYLIGHT
END:VTIMEZONE
END:VCALENDAR