BEGIN:VCALENDAR
VERSION:2.0
PRODID:-//wp-events-plugin.com//5.99912//EN
TZID:Europe/Berlin
X-WR-TIMEZONE:Europe/Berlin
BEGIN:VEVENT
UID:0-996@gemmrigheim.albverein.eu
DTSTART;TZID=Europe/Berlin:20260705T090000
DTEND;TZID=Europe/Berlin:20260705T170000
DTSTAMP:20251224T134209Z
URL:https://gemmrigheim.albverein.eu/events/tageswanderung-sportliche-wand
 erung/
SUMMARY:Tageswanderung - Sportliche Wanderung
DESCRIPTION:Nähere Infos folgen\n\nAnmeldung:\nSven Herold\nEmail: zahnar
 zt-s.herold@t-online.de
END:VEVENT
BEGIN:VTIMEZONE
TZID:Europe/Berlin
X-LIC-LOCATION:Europe/Berlin
BEGIN:DAYLIGHT
DTSTART:20260329T030000
TZOFFSETFROM:+0100
TZOFFSETTO:+0200
TZNAME:CEST
END:DAYLIGHT
END:VTIMEZONE
END:VCALENDAR