BEGIN:VCALENDAR
VERSION:2.0
PRODID:-//wp-events-plugin.com//5.99912//EN
TZID:Europe/Berlin
X-WR-TIMEZONE:Europe/Berlin
BEGIN:VEVENT
UID:0-998@gemmrigheim.albverein.eu
DTSTART;TZID=Europe/Berlin:20260829T070000
DTEND;TZID=Europe/Berlin:20260829T210000
DTSTAMP:20251224T134838Z
URL:https://gemmrigheim.albverein.eu/events/tageswanderung-wandern-ueber-g
 renzen-nothweiler/
SUMMARY:Tageswanderung - Wandern über Grenzen Nothweiler
DESCRIPTION:Nähere Infos folgen\n\nAnmeldung:\nRenate und Joachim Kreikeme
 ier\nTel.: 07143 / 96 39 45\nEmail: jr.kreikemeier@albverein-gemmrigheim.
 de
END:VEVENT
BEGIN:VTIMEZONE
TZID:Europe/Berlin
X-LIC-LOCATION:Europe/Berlin
BEGIN:DAYLIGHT
DTSTART:20260329T030000
TZOFFSETFROM:+0100
TZOFFSETTO:+0200
TZNAME:CEST
END:DAYLIGHT
END:VTIMEZONE
END:VCALENDAR