BEGIN:VCALENDAR
VERSION:2.0
PRODID:-//wp-events-plugin.com//5.99912//EN
TZID:Europe/Berlin
X-WR-TIMEZONE:Europe/Berlin
BEGIN:VEVENT
UID:0-1003@gemmrigheim.albverein.eu
DTSTART;TZID=Europe/Berlin:20260828T000000
DTEND;TZID=Europe/Berlin:20260830T000000
DTSTAMP:20251224T135928Z
URL:https://gemmrigheim.albverein.eu/events/wanderreise-bergwanderung-oest
 erreich/
SUMMARY:Wanderreise - Bergwanderung Österreich
DESCRIPTION:Nähere Infos folgen\n\nAnmeldung und Organisation:\nJochen Sch
 ober\nTel.: 0151 / 54 30 94 91\nJörg Reisinger\nTel.: 0173 / 63 22 668\nS
 ebastian Vogler
END:VEVENT
BEGIN:VTIMEZONE
TZID:Europe/Berlin
X-LIC-LOCATION:Europe/Berlin
BEGIN:DAYLIGHT
DTSTART:20260329T030000
TZOFFSETFROM:+0100
TZOFFSETTO:+0200
TZNAME:CEST
END:DAYLIGHT
END:VTIMEZONE
END:VCALENDAR