BEGIN:VCALENDAR
VERSION:2.0
PRODID:-//wp-events-plugin.com//5.99912//EN
TZID:Europe/Berlin
X-WR-TIMEZONE:Europe/Berlin
BEGIN:VEVENT
UID:0-1002@gemmrigheim.albverein.eu
DTSTART;TZID=Europe/Berlin:20260815T000000
DTEND;TZID=Europe/Berlin:20260824T000000
DTSTAMP:20251224T135653Z
URL:https://gemmrigheim.albverein.eu/events/wanderreise-traumpfad-muenchen
 -venedig-teil-2/
SUMMARY:Wanderreise - Traumpfad München - Venedig Teil 2
DESCRIPTION:Langstreckenwanderung\nnähere Infos folgen\n\nAnmeldung und Or
 ganisation:\nJörg Reisinger\nTel.: 0173 / 63 22 668
END:VEVENT
BEGIN:VTIMEZONE
TZID:Europe/Berlin
X-LIC-LOCATION:Europe/Berlin
BEGIN:DAYLIGHT
DTSTART:20260329T030000
TZOFFSETFROM:+0100
TZOFFSETTO:+0200
TZNAME:CEST
END:DAYLIGHT
END:VTIMEZONE
END:VCALENDAR